BEGIN:VCALENDAR
VERSION:2.0
PRODID:-//Touchstone Link - ECPv6.15.20//NONSGML v1.0//EN
CALSCALE:GREGORIAN
METHOD:PUBLISH
X-WR-CALNAME:Touchstone Link
X-ORIGINAL-URL:https://touchstonelink.com
X-WR-CALDESC:Events for Touchstone Link
REFRESH-INTERVAL;VALUE=DURATION:PT1H
X-Robots-Tag:noindex
X-PUBLISHED-TTL:PT1H
BEGIN:VTIMEZONE
TZID:America/Jamaica
BEGIN:STANDARD
TZOFFSETFROM:-0500
TZOFFSETTO:-0500
TZNAME:EST
DTSTART:20250101T000000
END:STANDARD
END:VTIMEZONE
BEGIN:VEVENT
DTSTART;TZID=America/Jamaica:20260510T150000
DTEND;TZID=America/Jamaica:20260511T000000
DTSTAMP:20260425T094652
CREATED:20260424T174810Z
LAST-MODIFIED:20260424T183506Z
UID:254953-1778425200-1778457600@touchstonelink.com
SUMMARY:ISLAND QUEEN
DESCRIPTION:Elegance and celebration at Island Queen\, the ultimate Mother’s Day all-inclusive experience. Set for Sunday\, May 10\, this stylish affair blends indulgence with vibrant energy from 2PM to midnight. Enjoy a mouthwatering spread of seafood and gourmet bites\, premium drinks\, and live entertainment in a chic\, elevated atmosphere. Treat Mom like royalty with VIP options featuring fine dining\, complimentary wine\, and special gifts. Whether you’re celebrating love\, strength\, or simply good vibes\, Island Queen promises a day of beauty\, flavor\, and unforgettable moments. Secure your spot early—this is one experience you don’t want to miss.
URL:https://touchstonelink.com/event/island-queen/
LOCATION:Manor Centre Plaza\, 195 Constant Spring\, St. Andrew\, Jamaica
CATEGORIES:Brunch,Entertainment Events,Parties & Lifestyle
ATTACH;FMTTYPE=image/jpeg:https://touchstonelink.com/wp-content/uploads/2026/04/Island-Queen.jpg
GEO:18.048646;-76.7944742
X-APPLE-STRUCTURED-LOCATION;VALUE=URI;X-ADDRESS=Manor Centre Plaza 195 Constant Spring St. Andrew Jamaica;X-APPLE-RADIUS=500;X-TITLE=195 Constant Spring:geo:-76.7944742,18.048646
END:VEVENT
END:VCALENDAR