BEGIN:VCALENDAR
VERSION:2.0
PRODID:-//Touchstone Link - ECPv6.15.20//NONSGML v1.0//EN
CALSCALE:GREGORIAN
METHOD:PUBLISH
X-ORIGINAL-URL:https://touchstonelink.com
X-WR-CALDESC:Events for Touchstone Link
REFRESH-INTERVAL;VALUE=DURATION:PT1H
X-Robots-Tag:noindex
X-PUBLISHED-TTL:PT1H
BEGIN:VTIMEZONE
TZID:America/Jamaica
BEGIN:STANDARD
TZOFFSETFROM:-0500
TZOFFSETTO:-0500
TZNAME:EST
DTSTART:20250101T000000
END:STANDARD
END:VTIMEZONE
BEGIN:VEVENT
DTSTART;TZID=America/Jamaica:20260607T110000
DTEND;TZID=America/Jamaica:20260607T220000
DTSTAMP:20260421T205848
CREATED:20260420T133109Z
LAST-MODIFIED:20260420T162754Z
UID:10000955-1780830000-1780869600@touchstonelink.com
SUMMARY:SKVNK FEST 2026
DESCRIPTION:WELCOME TO SKVNK FEST 2026\nA curated showcase of Jamaica’s elite builds. From street to strip\, tuners to exotics — all in one place. This is where we come together as enthusiasts to celebrate the culture of Jamaican Motorsports. \nTHE OFFICIAL AUTOMOTIVE FESTIVAL \nThis isn’t just a car show… This is the culture. \n 
URL:https://touchstonelink.com/event/skvnt-fest-2026/
LOCATION:NEW KINGSTON CINEMA\, 18 Dominica Dr\, Kingston\, Jamaica
CATEGORIES:Auto Show,Entertainment Events
ATTACH;FMTTYPE=image/png:https://touchstonelink.com/wp-content/uploads/2026/04/skunfes-600-x-600.png
ORGANIZER;CN="Skvnk Lifestyle":MAILTO:skvnkfest@gmail.com
GEO:18.0077643;-76.7898991
X-APPLE-STRUCTURED-LOCATION;VALUE=URI;X-ADDRESS=NEW KINGSTON CINEMA 18 Dominica Dr Kingston Jamaica;X-APPLE-RADIUS=500;X-TITLE=18 Dominica Dr\, Kingston:geo:-76.7898991,18.0077643
END:VEVENT
END:VCALENDAR