BEGIN:VCALENDAR
VERSION:2.0
PRODID:-//Touchstone Link - ECPv6.15.20//NONSGML v1.0//EN
CALSCALE:GREGORIAN
METHOD:PUBLISH
X-WR-CALNAME:Touchstone Link
X-ORIGINAL-URL:https://touchstonelink.com
X-WR-CALDESC:Events for Touchstone Link
REFRESH-INTERVAL;VALUE=DURATION:PT1H
X-Robots-Tag:noindex
X-PUBLISHED-TTL:PT1H
BEGIN:VTIMEZONE
TZID:America/Jamaica
BEGIN:STANDARD
TZOFFSETFROM:-0500
TZOFFSETTO:-0500
TZNAME:EST
DTSTART:20240101T000000
END:STANDARD
END:VTIMEZONE
BEGIN:VEVENT
DTSTART;TZID=America/Jamaica:20260207T210000
DTEND;TZID=America/Jamaica:20260208T020000
DTSTAMP:20260424T114929
CREATED:20251223T181108Z
LAST-MODIFIED:20260206T210145Z
UID:10000870-1770498000-1770516000@touchstonelink.com
SUMMARY:HARD WINE - FEB 2026
DESCRIPTION:Hard Wine takes over Mas Camp this February 7th – pure soca\, pure vibes\, pure energy!\nThe ultimate soca party where the riddim never stops and the waistlines never rest.\nWho’s ready to HARD WINE?
URL:https://touchstonelink.com/event/hard-wine-feb-2026/
LOCATION:Mas Camp\, Stadium Boulevard\, Arthur Wint Drive\, Kingston\, Jamaica
CATEGORIES:Carnival Events,Entertainment Events,Parties & Lifestyle
ATTACH;FMTTYPE=image/jpeg:https://touchstonelink.com/wp-content/uploads/2025/12/Hard-Wine-Feb-2026.jpg
GEO:18.0028458;-76.7735523
X-APPLE-STRUCTURED-LOCATION;VALUE=URI;X-ADDRESS=Mas Camp Stadium Boulevard Arthur Wint Drive Kingston Jamaica;X-APPLE-RADIUS=500;X-TITLE=Stadium Boulevard\, Arthur Wint Drive:geo:-76.7735523,18.0028458
END:VEVENT
BEGIN:VEVENT
DTSTART;TZID=America/Jamaica:20260131T120000
DTEND;TZID=America/Jamaica:20260201T000000
DTSTAMP:20260424T114929
CREATED:20260126T174237Z
LAST-MODIFIED:20260131T122837Z
UID:10000883-1769860800-1769904000@touchstonelink.com
SUMMARY:SWAN FIESTA BBQ
DESCRIPTION:Get ready for pure energy at Swan Fiesta BBQ – Jouvert Edition\, presented by St. Hugh’s High School!\nOn Saturday\, January 31\, 2026\, the campus transforms into a high-octane celebration featuring live performances by Nhance and Ayetian\, with nonstop vibes from DJ Mac and MC DJ Revvy. Expect sizzling BBQ\, colourful jouvert energy\, and a soundtrack powered by DJ Zacky\, DJ Mad Dawg\, DJ Huntri\, and DJ Kovert. Gates open at 12:00 PM — come early\, bring your crew\, and experience one of the hottest school fêtes of the season.
URL:https://touchstonelink.com/event/swan-fiesta-bbq/
LOCATION:St.Hugh’s High School for Girls\, 1 Leinster Road\, Kingston\, Jamaica
CATEGORIES:Entertainment Events
ATTACH;FMTTYPE=image/jpeg:https://touchstonelink.com/wp-content/uploads/2026/01/SWAN-FIESTA-BBQ.jpg
GEO:17.9907004;-76.7838364
X-APPLE-STRUCTURED-LOCATION;VALUE=URI;X-ADDRESS=St.Hugh’s High School for Girls 1 Leinster Road Kingston Jamaica;X-APPLE-RADIUS=500;X-TITLE=1 Leinster Road:geo:-76.7838364,17.9907004
END:VEVENT
BEGIN:VEVENT
DTSTART;TZID=America/Jamaica:20260125T110000
DTEND;TZID=America/Jamaica:20260125T160000
DTSTAMP:20260424T114929
CREATED:20250923T175246Z
LAST-MODIFIED:20260125T001844Z
UID:10000822-1769338800-1769356800@touchstonelink.com
SUMMARY:BEAUTIES AT BRUNCH 2026
DESCRIPTION:Get ready to step into your power\, set bold intentions\, and manifest your most vibrant year yet! Join us for Beauties at Brunch: Vision Board Party\, an inspiring and stylish gathering of driven women ready to create\, connect\, and cultivate their dream lives. \nThis isn’t just another brunch — it’s a celebration of vision\, purpose\, and possibility. Under the uplifting theme “Vibrant Vibes\,” we’re bringing together beauty\, brunch\, and bold goal setting in one empowering experience. Whether you’re looking to elevate your mindset or attract abundance in every area of life\, this is your space to declare it and design it. \nEnjoy a luxe brunch experience\nCraft your personalized 2026 vision board\nEngage in inspiring conversations\nConnect with like-minded women who uplift and empower \nStart your year with intention. Leave with clarity\, confidence\, and a visual blueprint for your most radiant 2026. \nBring your goals\, your glow\, and your good vibes! \nCLICK HERE TO REGISTER\nhttps://docs.google.com/forms/d/e/1FAIpQLSfSSezcsvoohHEmRUVjm8LWkNvISse_I8knntkbFGG0PpPZVg/viewform
URL:https://touchstonelink.com/event/beauties-at-brunch-2026/
LOCATION:Jamaica Pegasus Hotel\, 81 Knutsford Boulevard\, Kingston 5\, Jamaica
CATEGORIES:Brunch,Entertainment Events,Parties & Lifestyle
ATTACH;FMTTYPE=image/jpeg:https://touchstonelink.com/wp-content/uploads/2025/09/beauties_at_brunch.jpg
ORGANIZER;CN="Beauties at Brunch":MAILTO:beautiesatbrunch2023@gmail.com
GEO:18.0024594;-76.7881107
X-APPLE-STRUCTURED-LOCATION;VALUE=URI;X-ADDRESS=Jamaica Pegasus Hotel 81 Knutsford Boulevard Kingston 5 Jamaica;X-APPLE-RADIUS=500;X-TITLE=81 Knutsford Boulevard:geo:-76.7881107,18.0024594
END:VEVENT
BEGIN:VEVENT
DTSTART;TZID=America/Jamaica:20260101T200000
DTEND;TZID=America/Jamaica:20260102T020000
DTSTAMP:20260424T114929
CREATED:20251209T164243Z
LAST-MODIFIED:20251209T164243Z
UID:10000855-1767297600-1767319200@touchstonelink.com
SUMMARY:Angola Splash
DESCRIPTION:Angola Splash\, on January 1st\, 2026 at Angola Restaurant\, Old Pera\, St. Thomas. The event features: Shauna Controller\, Tenn Point\, Gage\, Jonah\, Marcy Chin\, Jay the Dancer \nMusic by Law Vybz Team & Dj Rella \nHosted by: Dyema & Rosealee
URL:https://touchstonelink.com/event/angola-splash/
LOCATION:Angola Restaurant Old Pera St Thomas\, Old Pera St Thomas\, St Thomas\, Jamaica
CATEGORIES:Entertainment Events,Parties & Lifestyle
ATTACH;FMTTYPE=image/jpeg:https://touchstonelink.com/wp-content/uploads/2025/12/ANGOLA-SPLASH.jpg
ORGANIZER;CN="Short Ghad Ent":MAILTO:swconsulting876@gmail.com
GEO:17.9700261;-76.4331698
X-APPLE-STRUCTURED-LOCATION;VALUE=URI;X-ADDRESS=Angola Restaurant Old Pera St Thomas Old Pera St Thomas St Thomas Jamaica;X-APPLE-RADIUS=500;X-TITLE=Old Pera St Thomas:geo:-76.4331698,17.9700261
END:VEVENT
BEGIN:VEVENT
DTSTART;TZID=America/Jamaica:20251231T200000
DTEND;TZID=America/Jamaica:20260101T040000
DTSTAMP:20260424T114929
CREATED:20251212T180447Z
LAST-MODIFIED:20251231T225622Z
UID:10000858-1767211200-1767240000@touchstonelink.com
SUMMARY:4D NYE COOLER FETE 2025
DESCRIPTION:Step into the New Year with unmatched energy at 4D NYE Cooler Fete\, happening December 31\, 2025 at the Royal Jamaica Yacht Club. From 8PM until sunrise\, enjoy an electrifying night filled with music\, fireworks\, and premium vibes as you and your crew bring your coolers and celebrate by the water. This exclusive NYE experience blends elegance\, excitement\, and pure Jamaican flair\, creating the perfect atmosphere to ring in 2026. With presold tickets available online and at select outlets\, secure your spot early. Get ready for great music\, great company\, and unforgettable moments at the ultimate New Year’s Eve celebration.
URL:https://touchstonelink.com/event/4d-nye-cooler-fete-2025/
LOCATION:Royal Jamaica Yatch Club\, Caribbean Maritime Institute Rd\, Jamaica
CATEGORIES:Cooler Fete,Entertainment Events,Fashion & Beauty,Parties & Lifestyle
ATTACH;FMTTYPE=image/jpeg:https://touchstonelink.com/wp-content/uploads/2025/12/4D-NYE-COOLER-FETE-2026.jpg
GEO:17.9450012;-76.7670791
X-APPLE-STRUCTURED-LOCATION;VALUE=URI;X-ADDRESS=Royal Jamaica Yatch Club Caribbean Maritime Institute Rd Jamaica;X-APPLE-RADIUS=500;X-TITLE=Caribbean Maritime Institute Rd:geo:-76.7670791,17.9450012
END:VEVENT
BEGIN:VEVENT
DTSTART;TZID=America/Jamaica:20251231T200000
DTEND;TZID=America/Jamaica:20260101T020000
DTSTAMP:20260424T114929
CREATED:20251209T231641Z
LAST-MODIFIED:20251229T214439Z
UID:10000856-1767211200-1767232800@touchstonelink.com
SUMMARY:ANGOLA FESTIVAL
DESCRIPTION:Angola Festival\, December 31st at Angola Restaurant\, Old Pera\, St. Thomas. This event features live performances by Capleton\, Jamal\, Stalk Ashley\, Shane O and much more. Gates open at 8 PM \nPowered by Shock Wave Sounds\, X Panda\, Hosted by MC Nuffy
URL:https://touchstonelink.com/event/angola-festival/
LOCATION:Angola Restaurant Old Pera St Thomas\, Old Pera St Thomas\, St Thomas\, Jamaica
CATEGORIES:Entertainment Events,Parties & Lifestyle
ATTACH;FMTTYPE=image/jpeg:https://touchstonelink.com/wp-content/uploads/2025/12/Angola-Festival.jpg
ORGANIZER;CN="Short Ghad Ent":MAILTO:swconsulting876@gmail.com
GEO:17.9700261;-76.4331698
X-APPLE-STRUCTURED-LOCATION;VALUE=URI;X-ADDRESS=Angola Restaurant Old Pera St Thomas Old Pera St Thomas St Thomas Jamaica;X-APPLE-RADIUS=500;X-TITLE=Old Pera St Thomas:geo:-76.4331698,17.9700261
END:VEVENT
BEGIN:VEVENT
DTSTART;TZID=America/Jamaica:20251228T160000
DTEND;TZID=America/Jamaica:20251228T230000
DTSTAMP:20260424T114929
CREATED:20251216T175426Z
LAST-MODIFIED:20251228T205456Z
UID:10000862-1766937600-1766962800@touchstonelink.com
SUMMARY:AMALFI 2025
DESCRIPTION:A Premium All-Inclusive Event
URL:https://touchstonelink.com/event/amalfi-2025/
LOCATION:Caymanas Golf & Country Club\, Caymanas Estate Road\, St Catherine\, Jamaica
CATEGORIES:Entertainment Events,Parties & Lifestyle
ATTACH;FMTTYPE=image/jpeg:https://touchstonelink.com/wp-content/uploads/2025/12/AMALFI-TIER-1.jpg
ORGANIZER;CN="Scottish Society":MAILTO:scottishsocietyJamaica@gmail.com
GEO:18.0230159;-76.9092737
X-APPLE-STRUCTURED-LOCATION;VALUE=URI;X-ADDRESS=Caymanas Golf & Country Club Caymanas Estate Road St Catherine Jamaica;X-APPLE-RADIUS=500;X-TITLE=Caymanas Estate Road:geo:-76.9092737,18.0230159
END:VEVENT
BEGIN:VEVENT
DTSTART;TZID=America/Jamaica:20251228T160000
DTEND;TZID=America/Jamaica:20251228T230000
DTSTAMP:20260424T114929
CREATED:20251210T013605Z
LAST-MODIFIED:20251228T185841Z
UID:10000857-1766937600-1766962800@touchstonelink.com
SUMMARY:AMALFI
DESCRIPTION:Content is protected.
URL:https://touchstonelink.com/event/amalfi/
LOCATION:Caymanas Golf & Country Club\, Caymanas Estate Road\, St Catherine\, Jamaica
CATEGORIES:Scottish Society
ORGANIZER;CN="Scottish Society":MAILTO:scottishsocietyJamaica@gmail.com
GEO:18.0230159;-76.9092737
X-APPLE-STRUCTURED-LOCATION;VALUE=URI;X-ADDRESS=Caymanas Golf & Country Club Caymanas Estate Road St Catherine Jamaica;X-APPLE-RADIUS=500;X-TITLE=Caymanas Estate Road:geo:-76.9092737,18.0230159
END:VEVENT
BEGIN:VEVENT
DTSTART;TZID=America/Jamaica:20251224T180000
DTEND;TZID=America/Jamaica:20251225T000000
DTSTAMP:20260424T114929
CREATED:20251011T175651Z
LAST-MODIFIED:20251230T195006Z
UID:10000829-1766599200-1766620800@touchstonelink.com
SUMMARY:Seychella: Winter Garden
DESCRIPTION:Seychella: Winter Garden is a premium lifestyle experience that blends elegance\, entertainment\, and exclusivity. Set against a stunning winter-themed backdrop\, it offers an evening of sophistication\, style\, and unforgettable ambiance.
URL:https://touchstonelink.com/event/seychella-winter-garden/
LOCATION:Kingston\, Kingston\, Jamaica
CATEGORIES:Entertainment Events,Parties & Lifestyle
ATTACH;FMTTYPE=image/jpeg:https://touchstonelink.com/wp-content/uploads/2025/10/Seychella.jpg
ORGANIZER;CN="Seychella Ja":MAILTO:seychellaja@gmail.com
GEO:18.0178743;-76.8099041
END:VEVENT
BEGIN:VEVENT
DTSTART;TZID=America/Jamaica:20251224T080000
DTEND;TZID=America/Jamaica:20251224T233000
DTSTAMP:20260424T114929
CREATED:20251106T151144Z
LAST-MODIFIED:20251106T152202Z
UID:10000838-1766563200-1766619000@touchstonelink.com
SUMMARY:Maddest Life
DESCRIPTION:St.Thomas’ most anticipated event for the Christmas…Maddest Lyfe\, December 24th. 
URL:https://touchstonelink.com/event/maddest-life/
LOCATION:Colonel Cove\, Morant Bay\, St Thomas\, Morant bay\, Jamaica
CATEGORIES:Entertainment Events,Parties & Lifestyle
ATTACH;FMTTYPE=image/jpeg:https://touchstonelink.com/wp-content/uploads/2025/11/Maddest-Lyfe.jpg
ORGANIZER;CN="Team5150":MAILTO:maddestlife51@gmail.com
GEO:17.8738305;-76.405687
X-APPLE-STRUCTURED-LOCATION;VALUE=URI;X-ADDRESS=Colonel Cove Morant Bay St Thomas Morant bay Jamaica;X-APPLE-RADIUS=500;X-TITLE=Morant Bay:geo:-76.405687,17.8738305
END:VEVENT
BEGIN:VEVENT
DTSTART;TZID=America/Jamaica:20251221T200000
DTEND;TZID=America/Jamaica:20251222T030000
DTSTAMP:20260424T114929
CREATED:20251129T181748Z
LAST-MODIFIED:20251221T212948Z
UID:10000846-1766347200-1766372400@touchstonelink.com
SUMMARY:LUCID DREAMS
DESCRIPTION:Step into the extraordinary.LUCID DREAMS returns on December 21\, 2025 at Tropical Bliss\, transporting you to a realm where music\, imagination\, and cosmic energy collide. Expect a night of futuristic vibes\, surreal visuals\, and an atmosphere that feels out of this world. \nGet ready to dream with your eyes wide open.Follow @lucidfete for updates.
URL:https://touchstonelink.com/event/lucid-dreams/
LOCATION:Tropical Bliss\, 9 Kent Ave\, Montego Bay\, Jamaica
CATEGORIES:Parties & Lifestyle
ATTACH;FMTTYPE=image/jpeg:https://touchstonelink.com/wp-content/uploads/2025/11/LUCID-DREAMS.jpg
GEO:18.5056939;-77.9154132
X-APPLE-STRUCTURED-LOCATION;VALUE=URI;X-ADDRESS=Tropical Bliss 9 Kent Ave Montego Bay Jamaica;X-APPLE-RADIUS=500;X-TITLE=9 Kent Ave:geo:-77.9154132,18.5056939
END:VEVENT
BEGIN:VEVENT
DTSTART;TZID=America/Jamaica:20251221T160000
DTEND;TZID=America/Jamaica:20251221T220000
DTSTAMP:20260424T114929
CREATED:20250909T221107Z
LAST-MODIFIED:20251221T182627Z
UID:10000815-1766332800-1766354400@touchstonelink.com
SUMMARY:BIKINI BRUNCH - COLOR EN BLANC
DESCRIPTION:Bikini Brunch – Color en Blanc is a French-inspired theme that draws from the tradition of “all white brunches.” The idea is to blend the elegance of an all-white dress code with the carefree vibe of bikini season. Guests are encouraged to wear stylish white outfits or chic swimwear\, creating a fresh\, upscale\, and summery atmosphere while celebrating food\, music\, and culture in a vibrant social setting.
URL:https://touchstonelink.com/event/bikini-brunch-color-en-blanc/
LOCATION:Police Officers Club\, 34 Hope Road\, Kingston 5\, Jamaica
CATEGORIES:Brunch,Entertainment Events,Parties & Lifestyle
ATTACH;FMTTYPE=image/jpeg:https://touchstonelink.com/wp-content/uploads/2025/09/2025-11-13-BIKINI-BRUNCH-UPDATED-600.jpg
GEO:18.0171263;-76.7863053
X-APPLE-STRUCTURED-LOCATION;VALUE=URI;X-ADDRESS=Police Officers Club 34 Hope Road Kingston 5 Jamaica;X-APPLE-RADIUS=500;X-TITLE=34 Hope Road:geo:-76.7863053,18.0171263
END:VEVENT
BEGIN:VEVENT
DTSTART;TZID=America/Jamaica:20251220T160000
DTEND;TZID=America/Jamaica:20251221T220000
DTSTAMP:20260424T114929
CREATED:20251118T184148Z
LAST-MODIFIED:20251219T233511Z
UID:10000842-1766246400-1766354400@touchstonelink.com
SUMMARY:ZOO LIGHTS 2025
DESCRIPTION:Get ready for the most magical nights of the season! Zoo Lights lights up the zoo with stunning displays\, festive vibes\, and holiday cheer for the whole family. Santa’s visit and special activities are available at an additional cost! \nTICKETS ARE VALID FOR 1 NIGHT ONLY \nBABIES – FREE \nCHILD (2-12 YEARS) – $1\,500 \nTEEN/ADULT (13 AND OVER) – $2.000 \n 
URL:https://touchstonelink.com/event/zoo-lights-2025/
LOCATION:Hope Zoo\, Hope Gardens\, Old Hope Road\, Kingston\, 6\, Jamaica
CATEGORIES:Entertainment Events,Family Events,Zoo Events
ATTACH;FMTTYPE=image/jpeg:https://touchstonelink.com/wp-content/uploads/2025/11/Zoo-Lights-Sold-out.jpg
ORGANIZER;CN="Hope Zoo Preservation Foundation":MAILTO:zoobookings@hopezookingston.com
GEO:18.0170221;-76.751645
X-APPLE-STRUCTURED-LOCATION;VALUE=URI;X-ADDRESS=Hope Zoo Hope Gardens Old Hope Road Kingston 6 Jamaica;X-APPLE-RADIUS=500;X-TITLE=Hope Gardens\, Old Hope Road:geo:-76.751645,18.0170221
END:VEVENT
BEGIN:VEVENT
DTSTART;TZID=America/Jamaica:20251213T120000
DTEND;TZID=America/Jamaica:20251213T220000
DTSTAMP:20260424T114929
CREATED:20251126T201445Z
LAST-MODIFIED:20251214T003924Z
UID:10000845-1765627200-1765663200@touchstonelink.com
SUMMARY:I-SOCA
DESCRIPTION:I-Soca\, The Ultimate Rewind hosted by Immaculate Conception High School HSA and the Prefect Council. Join us on Dec 13 on the school lawns starting at 12 noon\, music by your favorite Djs all day.
URL:https://touchstonelink.com/event/i-soca/
LOCATION:Immaculate High School\, Constant Spring Road\, Kingston\, Jamaica
CATEGORIES:Entertainment Events,Family Events,Parties & Lifestyle
ATTACH;FMTTYPE=image/jpeg:https://touchstonelink.com/wp-content/uploads/2025/11/I-SOCA-2.jpg
GEO:18.0338699;-76.7960086
X-APPLE-STRUCTURED-LOCATION;VALUE=URI;X-ADDRESS=Immaculate High School Constant Spring Road Kingston Jamaica;X-APPLE-RADIUS=500;X-TITLE=Constant Spring Road:geo:-76.7960086,18.0338699
END:VEVENT
BEGIN:VEVENT
DTSTART;TZID=America/Jamaica:20251206T200000
DTEND;TZID=America/Jamaica:20251207T020000
DTSTAMP:20260424T114929
CREATED:20251117T174906Z
LAST-MODIFIED:20251206T185258Z
UID:10000841-1765051200-1765072800@touchstonelink.com
SUMMARY:SIMPLY SOCA
DESCRIPTION:We invite you to “Deck The Halls” with us @simplysocaja and kickstart your Christmas celebrations \n8PM\, Saturday December 6th\, 2025 \nKingston\, Jamaica \nPre-Sold Tickets – $3\,500JMD \n(Online Processing Fees Included In Price) \nIn support of sharing the Christmas Spirit with our brothers and sisters affected by Hurricane Melissa we encourage all to carry and donate non perishable items and toys. \nPowered by Richie R.A.S.\, Fada Mike\, Copper Cyclone\, Brush1 The Road Marshall & By Di Tree
URL:https://touchstonelink.com/event/simplysocaja/
LOCATION:The Falls (Waterfalls)\, 160 Old Hope Road\, Kingston\, Jamaica
CATEGORIES:Carnival Events,Entertainment Events,Parties & Lifestyle
ATTACH;FMTTYPE=image/jpeg:https://touchstonelink.com/wp-content/uploads/2025/11/SIMPLY-SOCA-1.jpg
ORGANIZER;CN="DJ Richie R.A.S. x Copper Cyclone x Fada Mike x Brush1 The Road Marshall x By Di Tree":MAILTO:cultureshareent@gmail.com
GEO:18.0185117;-76.7622283
X-APPLE-STRUCTURED-LOCATION;VALUE=URI;X-ADDRESS=The Falls (Waterfalls) 160 Old Hope Road Kingston Jamaica;X-APPLE-RADIUS=500;X-TITLE=160 Old Hope Road:geo:-76.7622283,18.0185117
END:VEVENT
BEGIN:VEVENT
DTSTART;TZID=America/Jamaica:20251130T120000
DTEND;TZID=America/Jamaica:20251130T180000
DTSTAMP:20260424T114929
CREATED:20251110T164341Z
LAST-MODIFIED:20251111T183713Z
UID:10000839-1764504000-1764525600@touchstonelink.com
SUMMARY:CAR BOOT SALE | ULTIMATE YARD SALE EVENT
DESCRIPTION:Join us for Jamaica’s most affordable and sustainable shopping and selling event! Our Car Boot Sale is where community meets commerce at an affordable price! Re-home and recycle your unwanted and gently used items! Small business shops also welcomed!
URL:https://touchstonelink.com/event/car-boot-sale-ultimate-yard-sale-event/
LOCATION:Summit Business and Lifestyle Complex\, 16 Chelsea Ave\, Kingston
CATEGORIES:Community & Culture,Entertainment Events,Family Events
ATTACH;FMTTYPE=image/jpeg:https://touchstonelink.com/wp-content/uploads/2025/11/Car-Boot-Sale-1.jpg
ORGANIZER;CN="Your Neighborhood Friend Ja":MAILTO:carbootsaleja@gmail.com
GEO:18.0073139;-76.7925607
X-APPLE-STRUCTURED-LOCATION;VALUE=URI;X-ADDRESS=Summit Business and Lifestyle Complex 16 Chelsea Ave Kingston;X-APPLE-RADIUS=500;X-TITLE=16 Chelsea Ave:geo:-76.7925607,18.0073139
END:VEVENT
BEGIN:VEVENT
DTSTART;TZID=America/Jamaica:20251123T150000
DTEND;TZID=America/Jamaica:20251123T220000
DTSTAMP:20260424T114929
CREATED:20250902T185941Z
LAST-MODIFIED:20251121T213334Z
UID:10000812-1763910000-1763935200@touchstonelink.com
SUMMARY:I LOVE 90s Soiree - Nov 2025
DESCRIPTION:NEW DATE! NEW DATE! \nJoin us on the lawns of Devon House\, dressed in your Sunday’s best as we jam to the best of the 90s at I Love 90s Soiree. Sunday\, November 23rd\, Food inclusive event\, gates open at 3 PM.
URL:https://touchstonelink.com/event/i-love-90s-soiree-nov-2025/
LOCATION:Devon House\, 26 Hope Road\, Kingston 10\, St. Andrew\, Jamaica
CATEGORIES:Entertainment Events,Food Inclusive,Parties & Lifestyle
ATTACH;FMTTYPE=image/jpeg:https://touchstonelink.com/wp-content/uploads/2025/09/Updated-i-love-90s-flyer.jpg
GEO:18.0150469;-76.7898708
X-APPLE-STRUCTURED-LOCATION;VALUE=URI;X-ADDRESS=Devon House 26 Hope Road Kingston 10 St. Andrew Jamaica;X-APPLE-RADIUS=500;X-TITLE=26 Hope Road:geo:-76.7898708,18.0150469
END:VEVENT
BEGIN:VEVENT
DTSTART;TZID=America/Jamaica:20251109T160000
DTEND;TZID=America/Jamaica:20251110T000000
DTSTAMP:20260424T114929
CREATED:20251017T162400Z
LAST-MODIFIED:20251109T204842Z
UID:10000833-1762704000-1762732800@touchstonelink.com
SUMMARY:I LOVE SOULS: NOV 2025
DESCRIPTION:NEW DATE ! NEW DATE! \nJoin us at I love Souls on November 9th at Di Lot as we jam to the tunes of Tanya Stephens Live! Gates open at 4 PM. \n  \nThe I Love Souls team will be doing the usual jam on November 2 and will be collecting food items for donation to the needy community of St Elizabeth.  Please feel free to pass by and donate items as donation bins will be provided. \n 
URL:https://touchstonelink.com/event/i-love-souls/
LOCATION:Di Lot\, Constant Spring Road\, Kingston\, Jamaica
CATEGORIES:Entertainment Events,Parties & Lifestyle
ATTACH;FMTTYPE=image/jpeg:https://touchstonelink.com/wp-content/uploads/2025/10/I-Love-Souls-Nov-2025.jpg
ORGANIZER;CN="I Love Souls JA":MAILTO:ilovesoulsja@gmail.com
GEO:18.01807;-76.7966146
X-APPLE-STRUCTURED-LOCATION;VALUE=URI;X-ADDRESS=Di Lot Constant Spring Road Kingston Jamaica;X-APPLE-RADIUS=500;X-TITLE=Constant Spring Road:geo:-76.7966146,18.01807
END:VEVENT
BEGIN:VEVENT
DTSTART;TZID=America/Jamaica:20251108T200000
DTEND;TZID=America/Jamaica:20251109T020000
DTSTAMP:20260424T114929
CREATED:20250820T001704Z
LAST-MODIFIED:20251106T210920Z
UID:10000801-1762632000-1762653600@touchstonelink.com
SUMMARY:SCREAM 2025: The Caribbean’s Ultimate Halloween Festival
DESCRIPTION:SCREAM POSTPONED  \nFollowing the extreme fallout caused by Hurricane Melissa and under continued guidance from our legal partners and the national meteorological authorities\, the Scream team has made the difficult decision to push back our staging to the following weekend. \nWhile we were fully prepared and excited to deliver what would have been our biggest and most ambitious Scream Halloween Festival to date\, we cannot overlook the devastation many of our fellow Jamaicans are facing across the island. \nThis weekend\, our focus will instead shift towards supporting relief and recovery efforts in affected communities across Central and Western Jamaica. We are currently working alongside other members of the entertainment industry to mobilize donations and resources for those in need. \nA new date and updated venue details for Scream will be shared shortly. We truly appreciate your continued patience\, partnership\, and understanding as we navigate this difficult time together. \nThank you for your unwavering support when we return\, we’ll make history.
URL:https://touchstonelink.com/event/scream-the-caribbeans-ultimate-halloween-festival/
LOCATION:Kingston\, Kingston\, Jamaica
CATEGORIES:Entertainment Events,Festivals & Concerts,Parties & Lifestyle
ATTACH;FMTTYPE=image/png:https://touchstonelink.com/wp-content/uploads/2025/10/SCREAM-3.png
ORGANIZER;CN="Hourz Entertainment":MAILTO:hourzent@gmail.com
GEO:18.0178743;-76.8099041
END:VEVENT
BEGIN:VEVENT
DTSTART;TZID=America/Jamaica:20251107T160000
DTEND;TZID=America/Jamaica:20251109T000000
DTSTAMP:20260424T114929
CREATED:20250821T214509Z
LAST-MODIFIED:20251107T144833Z
UID:10000805-1762531200-1762646400@touchstonelink.com
SUMMARY:BOO AT THE ZOO 2025
DESCRIPTION:  \n \nNIGHT 1 – NOT SO SCARY – NOVEMBER 7 – 4PM – 9PM (Specially designed for babies to 12 years old.) \nNIGHT 2 – DARED TO BE SCARED – NOVEMBER 8 – 6PM – 12AM \nBoo at the Zoo supports the preservation of Jamaica’s wildlife. \nALL TICKETS PREVIOUSLY BOUGHT WILL BE ACCEPTED FOR THE NEW DATE \nNO REFUND ON TICKETS. NO EXCHANGE IN TICKET DATES
URL:https://touchstonelink.com/event/boo-at-the-zoo/
LOCATION:Hope Zoo\, Hope Gardens\, Old Hope Road\, Kingston\, 6\, Jamaica
CATEGORIES:Entertainment Events,Family Events,Zoo Events
ATTACH;FMTTYPE=image/jpeg:https://touchstonelink.com/wp-content/uploads/2025/08/Boo-at-the-Zoo-Updated.jpg
ORGANIZER;CN="Hope Zoo Preservation Foundation":MAILTO:zoobookings@hopezookingston.com
GEO:18.0170221;-76.751645
X-APPLE-STRUCTURED-LOCATION;VALUE=URI;X-ADDRESS=Hope Zoo Hope Gardens Old Hope Road Kingston 6 Jamaica;X-APPLE-RADIUS=500;X-TITLE=Hope Gardens\, Old Hope Road:geo:-76.751645,18.0170221
END:VEVENT
BEGIN:VEVENT
DTSTART;TZID=America/Jamaica:20251101T190000
DTEND;TZID=America/Jamaica:20251101T233000
DTSTAMP:20260424T114929
CREATED:20250907T231506Z
LAST-MODIFIED:20251031T131239Z
UID:10000814-1762023600-1762039800@touchstonelink.com
SUMMARY:Haunted Maze: Your Final Destination
DESCRIPTION: WELCOME TO THE HAUNTED MAZE Fear is waiting… and it knows your name. \n\nAs night falls\, the creatures come alive in a place that should never have been found. The Haunted Maze\, your final destination\, isn’t just haunted — it’s alive. The bushes pulse. The air is heavy. And once you’re inside\, the darkness closes in. \nEach step you take pulls you deeper into a web of terror — flickering lights that reveal shadowy figures\, and it feels too quiet… until it’snot. \nYou’ll face hallucination-inducing fog\, unnatural screams\, and blood-stained props where others vanished without a trace. Something — or someone — is always just behind you. \nYou can scream. You can run.But in here… the maze listens.
URL:https://touchstonelink.com/event/haunted-maze-your-final-destination/
LOCATION:Hope Gardens\, 227 Old Hope Road\,\, Kingston 6\, Jamaica
CATEGORIES:Entertainment Events,Parties & Lifestyle
ATTACH;FMTTYPE=image/jpeg:https://touchstonelink.com/wp-content/uploads/2025/09/2025-09-07-HAUNTED-MAZE-FLYER.jpeg
ORGANIZER;CN="Haunted Maze JA":MAILTO:popupmarketing1@gmail.com
GEO:18.0063004;-76.7750617
X-APPLE-STRUCTURED-LOCATION;VALUE=URI;X-ADDRESS=Hope Gardens 227 Old Hope Road Kingston 6 Jamaica;X-APPLE-RADIUS=500;X-TITLE=227 Old Hope Road\,:geo:-76.7750617,18.0063004
END:VEVENT
END:VCALENDAR